BEGIN:VCALENDAR
VERSION:2.0
PRODID:-//Indonesian Muslim Association in Hong Kong - ECPv5.5.0//NONSGML v1.0//EN
CALSCALE:GREGORIAN
METHOD:PUBLISH
X-WR-CALNAME:Indonesian Muslim Association in Hong Kong
X-ORIGINAL-URL:https://imah.org.hk
X-WR-CALDESC:Events for Indonesian Muslim Association in Hong Kong
BEGIN:VTIMEZONE
TZID:Asia/Shanghai
BEGIN:STANDARD
TZOFFSETFROM:+0800
TZOFFSETTO:+0800
TZNAME:CST
DTSTART:20180101T000000
END:STANDARD
END:VTIMEZONE
BEGIN:VEVENT
DTSTART;TZID=Asia/Shanghai:20180318T143000
DTEND;TZID=Asia/Shanghai:20180318T183000
DTSTAMP:20260424T104006
CREATED:20180311T075726Z
LAST-MODIFIED:20181126T231820Z
UID:1680-1521383400-1521397800@imah.org.hk
SUMMARY:Regular Halaqah - Belief in the Prophets
DESCRIPTION:This is a monthly gathering of Islamic study for the Indonesian sisters. The topic is on the fourth pillar os Islam\, belief in the prophets of Allah.
URL:https://imah.org.hk/event/regular-halaqah-belief-in-the-prophets/
LOCATION:MCHK Centre\, Flat 3A\, Chun Wah Commercial Building\, 28-30 Minden Ave\, Tsim Sha Tsui\, Hong Kong
END:VEVENT
END:VCALENDAR