BEGIN:VCALENDAR
VERSION:2.0
PRODID:-//Indonesian Muslim Association in Hong Kong - ECPv5.5.0//NONSGML v1.0//EN
CALSCALE:GREGORIAN
METHOD:PUBLISH
X-WR-CALNAME:Indonesian Muslim Association in Hong Kong
X-ORIGINAL-URL:https://imah.org.hk
X-WR-CALDESC:Events for Indonesian Muslim Association in Hong Kong
BEGIN:VTIMEZONE
TZID:Asia/Hong_Kong
BEGIN:STANDARD
TZOFFSETFROM:+0800
TZOFFSETTO:+0800
TZNAME:HKT
DTSTART:20190101T000000
END:STANDARD
END:VTIMEZONE
BEGIN:VEVENT
DTSTART;TZID=Asia/Hong_Kong:20190210T133000
DTEND;TZID=Asia/Hong_Kong:20190210T150000
DTSTAMP:20260422T155804
CREATED:20190210T004423Z
LAST-MODIFIED:20190210T004423Z
UID:2082-1549805400-1549810800@imah.org.hk
SUMMARY:Nearing The Hereafter
DESCRIPTION:This is religious study only for the students of Bintang Nusantara\, delivered in Indonesian. Registered students only.
URL:https://imah.org.hk/event/nearing-the-hereafter-3/
LOCATION:IMAH Centre\, Shop 22\, Bay View Shopping Arcade\, 11-33 Moreton Terrace\, Causeway Bay\, Hong Kong
ATTACH;FMTTYPE=image/png:https://imah.org.hk/wp-content/uploads/2018/12/KiamatSemakinDekat-Angkatan5.png
END:VEVENT
BEGIN:VEVENT
DTSTART;TZID=Asia/Hong_Kong:20190210T163000
DTEND;TZID=Asia/Hong_Kong:20190210T180000
DTSTAMP:20260422T155804
CREATED:20190209T145448Z
LAST-MODIFIED:20190209T145448Z
UID:2080-1549816200-1549821600@imah.org.hk
SUMMARY:Computer Champion
DESCRIPTION:Did you know that computer knowledge is very important in this internet era?\nHave you ever imagined the impact of having the ability to operate a computer?\nDo you know that computer knowledge can help improve your business?\nDo you want to have beneficial activity on Sundays?\nAttend computer and internet courses organized by IMAH and delivered by a professional practitioner in computer technology.\nDon’t miss this learning opportunity.
URL:https://imah.org.hk/event/computer-champion-4/
LOCATION:IMAH Centre\, Shop 22\, Bay View Shopping Arcade\, 11-33 Moreton Terrace\, Causeway Bay\, Hong Kong
ATTACH;FMTTYPE=image/png:https://imah.org.hk/wp-content/uploads/2018/11/Computer-Champions-2.png
END:VEVENT
END:VCALENDAR