BEGIN:VCALENDAR
VERSION:2.0
PRODID:-//Indonesian Muslim Association in Hong Kong - ECPv5.5.0//NONSGML v1.0//EN
CALSCALE:GREGORIAN
METHOD:PUBLISH
X-WR-CALNAME:Indonesian Muslim Association in Hong Kong
X-ORIGINAL-URL:https://imah.org.hk/id
X-WR-CALDESC:Events for Indonesian Muslim Association in Hong Kong
BEGIN:VTIMEZONE
TZID:Asia/Hong_Kong
BEGIN:STANDARD
TZOFFSETFROM:+0800
TZOFFSETTO:+0800
TZNAME:HKT
DTSTART:20240101T000000
END:STANDARD
END:VTIMEZONE
BEGIN:VEVENT
DTSTART;TZID=Asia/Hong_Kong:20240916T080000
DTEND;TZID=Asia/Hong_Kong:20241213T170000
DTSTAMP:20260423T012616
CREATED:20240913T064544Z
LAST-MODIFIED:20240916T064452Z
UID:2378-1726473600-1734109200@imah.org.hk
SUMMARY:Dukunglah Kami untuk pembangunan Indonesian Community Centre (ICC) in Hong Kong
DESCRIPTION:Dukunglah inisiatf kemi untuk pembangunan ICC in Hong Kong dengan mengisi survey dukugan melalui link berikut ini :\nhttps://forms.gle/AFMiUok3pqBWPybq7
URL:https://imah.org.hk/id/event/support-us-for-indonesian-community-centre-icc-in-hong-kong-development/
END:VEVENT
END:VCALENDAR