BEGIN:VCALENDAR
VERSION:2.0
PRODID:-//Indonesian Muslim Association in Hong Kong - ECPv5.5.0//NONSGML v1.0//EN
CALSCALE:GREGORIAN
METHOD:PUBLISH
X-WR-CALNAME:Indonesian Muslim Association in Hong Kong
X-ORIGINAL-URL:https://imah.org.hk/id
X-WR-CALDESC:Events for Indonesian Muslim Association in Hong Kong
BEGIN:VTIMEZONE
TZID:Asia/Hong_Kong
BEGIN:STANDARD
TZOFFSETFROM:+0800
TZOFFSETTO:+0800
TZNAME:HKT
DTSTART:20190101T000000
END:STANDARD
END:VTIMEZONE
BEGIN:VEVENT
DTSTART;TZID=Asia/Hong_Kong:20190210T133000
DTEND;TZID=Asia/Hong_Kong:20190210T150000
DTSTAMP:20260422T173028
CREATED:20190210T004423Z
LAST-MODIFIED:20190210T004423Z
UID:2082-1549805400-1549810800@imah.org.hk
SUMMARY:Kiamat Semakin Dekat
DESCRIPTION:Ini mata pelajaran agama untuk siswa Bintang Nusantara. Hanya untuk siswa terdaftar.
URL:https://imah.org.hk/id/event/nearing-the-hereafter-3/
LOCATION:IMAH Centre\, Shop 22\, Bay View Shopping Arcade\, 11-33 Moreton Terrace\, Causeway Bay\, Hong Kong
ATTACH;FMTTYPE=image/png:https://imah.org.hk/wp-content/uploads/2018/12/KiamatSemakinDekat-Angkatan5.png
END:VEVENT
BEGIN:VEVENT
DTSTART;TZID=Asia/Hong_Kong:20190210T163000
DTEND;TZID=Asia/Hong_Kong:20190210T180000
DTSTAMP:20260422T173028
CREATED:20190209T145448Z
LAST-MODIFIED:20190209T145448Z
UID:2080-1549816200-1549821600@imah.org.hk
SUMMARY:Kampiun Komputer
DESCRIPTION:Tahukah Anda bahwa pengetahuan komputer menjadi sangat penting di era internet ini? Pernahkah Anda membayangkan dampaknya memiliki kemampuan mengoperasikan komputer?\nApakah Anda tahu bahwa pengetahuan komputer dapat membantu dalam meningkatkan bisnis Anda?\nApakah Anda ingin punya kesibukan yang bermanfaat di hari Minggu? \nHadirilah kursus komputer dan internet yang diselenggarakan oleh IMAH dan dibawakan langsung oleh seorang praktisi professional dalam teknologi perkomputeran. \nJangan lewatkan kesempatan belajar ini.
URL:https://imah.org.hk/id/event/computer-champion-4/
LOCATION:IMAH Centre\, Shop 22\, Bay View Shopping Arcade\, 11-33 Moreton Terrace\, Causeway Bay\, Hong Kong
ATTACH;FMTTYPE=image/png:https://imah.org.hk/wp-content/uploads/2018/11/Computer-Champions-2.png
END:VEVENT
END:VCALENDAR